BEGIN:VCALENDAR
VERSION:2.0
PRODID:-//Tukios.com/
BEGIN:VEVENT
UID:a2300379-2d83-4837-ac4f-374619d78a63@www.rogerspickard.com
DTSTAMP:20260422T212120Z
DTSTART:20260425T150000Z
DTEND:20260425T160000Z
SUMMARY:Graveside Service
DESCRIPTION:
URL:https://www.rogerspickard.com/obituaries/phyllis-brewer
LOCATION:Buffalo Cemetery 1333 Carthage St  Sanford NC 27330
GEO:35.4611487;-79.1937143
END:VEVENT
END:VCALENDAR