BEGIN:VCALENDAR
VERSION:2.0
PRODID:-//Tukios.com/
BEGIN:VEVENT
UID:b1748d21-37e4-49c8-b141-fa0f64d16499@www.rogerspickard.com
DTSTAMP:20260422T174011Z
DTSTART:20260425
SUMMARY:Burial
DESCRIPTION:following the service
URL:https://www.rogerspickard.com/obituaries/john-bolton-jr
LOCATION: 1333 Carthage St  Sanford NC 27330
GEO:35.4611487;-79.1937143
END:VEVENT
END:VCALENDAR