BEGIN:VCALENDAR
VERSION:2.0
PRODID:-//Tukios.com/
BEGIN:VEVENT
UID:c8c582e6-7794-449a-8b25-b4301ca59289@www.rogerspickard.com
DTSTAMP:20260422T174402Z
DTSTART:20260425T180000Z
DTEND:20260425T190000Z
SUMMARY:Funeral Service
DESCRIPTION:
URL:https://www.rogerspickard.com/obituaries/john-bolton-jr
LOCATION:Rogers Pickard Funeral Home 509 Carthage St  Sanford NC 27330
GEO:35.4779407;-79.1836424
END:VEVENT
END:VCALENDAR