BEGIN:VCALENDAR
VERSION:2.0
PRODID:-//Tukios.com/
BEGIN:VEVENT
UID:2d2f3968-3d4f-4785-8224-cbbd9f8bfc6d@www.rogerspickard.com
DTSTAMP:20260422T174645Z
DTSTART:20260425T170000Z
DTEND:20260425T180000Z
SUMMARY:Visitation
DESCRIPTION:
URL:https://www.rogerspickard.com/obituaries/john-bolton-jr
LOCATION:Rogers Pickard Funeral Home 509 Carthage St  Sanford NC 27330
GEO:35.4779407;-79.1836424
END:VEVENT
END:VCALENDAR